BEGIN:VCALENDAR
VERSION:2.0
PRODID:-//TUMAC - ECPv5.1.2//NONSGML v1.0//EN
CALSCALE:GREGORIAN
METHOD:PUBLISH
X-WR-CALNAME:TUMAC
X-ORIGINAL-URL:https://tumac.org
X-WR-CALDESC:Events for TUMAC
BEGIN:VTIMEZONE
TZID:Europe/Istanbul
BEGIN:STANDARD
TZOFFSETFROM:+0300
TZOFFSETTO:+0300
TZNAME:+03
DTSTART:20190101T000000
END:STANDARD
END:VTIMEZONE
BEGIN:VEVENT
DTSTART;TZID=Europe/Istanbul:20190216T160000
DTEND;TZID=Europe/Istanbul:20190216T180000
DTSTAMP:20260420T063043
CREATED:20190216T042242Z
LAST-MODIFIED:20200221T133630Z
UID:1618-1550332800-1550340000@tumac.org
SUMMARY:TUMAC BSE No.2: “Nazarî Modeller Işığında Makam” - Doç. Dr. Okan Murat Öztürk
DESCRIPTION:Türk Müziği Akademik Çevresi Bilim-Sanat Etkinlikleri\, Ankara Müzik ve Güzel Sanatlar Üniversitesi Öğretim Üyesi Doç. Dr. Okan Murat Öztürk’ün “Nazarî Modeller Işığında Makam: Kavramsal ve Tarihsel Dönüşümler” başlıklı sunumuyla devam ediyor. Halka açık ve ücretsiz olan etkinlik\, 16 Şubat 2019 Cumartesi günü saat 16:00’da Türkiye Tarihi Evleri Koruma Derneği TÜRKEV’in katkılarıyla\, İstanbul Cankurtaran’da bulunan Dede Efendi Evi’nde gerçekleşecek. \nAfiş Tasarımı: Orçun Güneşer \nSUNUM HAKKINDA \nMakam\, Şark dünyasının mûsikî ameliyatı ve nazariyatının temel kavramlarından biri olarak\, bir yandan kültürel bir çeşitlilik sergilemekte\, diğer yandan da özellikle nazariyat düzleminde\, tarihsel değişim ve dönüşümlere uğramış görünmektedir. Osmanlı dünyasında şekillenen mûsikî nazariyatı çalışmalarında da başat bir konumda bulunan makam kavramı açısından\, nazariyat tarihinde öne çıkan belli başlı nazarî modeller\, bu çalışmanın odak noktasını teşkil etmektedir. \nNazariyat alanı\, hiç kuşkusuz\, ortaya çıkışı ve gelişimi ve yaygınlaşması bakımından\, ‘nazariyatçı’ olarak nitelendirilen özel bir mûsikîşinas veya ‘ilim erbabı’ kimselere ihtiyaç gösterir. Tarihsel açıdan bakıldığında mûsikî alanında ‘nazariyatçı’ nitelikleriyle öne çıkan kimseler arasında mutasavvıflar\, ilahiyatçılar\, devlet veya din adamları\, tarihçiler\, sanatkârlar\, âlimler ve ariflerin yer aldıkları görülür. Bu yönüyle mûsikîye nazarî düzlemde bakan kimselerin\, yetişmeleri\, eğilimleri\, bilgi ve tecrübeleri itibarıyla farklı hususiyetlere sahip oldukları bir hakikattir. Bu nitelik\, mûsikî nazariyatı alanında ortaya konulan çeşitli nazariyelerin\, sadece ‘bilim’ –özellikle de ‘pozitif bilim’– temelinde şekillenmediğini; bundan çok daha etkili olmak üzere\, sembolik nitelikteki kavrayışların\, nazariyat çalışmalarına çoğu zaman etkili birer zemin temel teşkil etmiş olduğunu açıkça göstermektedir. Neticede nazariyatçı\, mûsikîye ‘bakar’ iken sadece ‘orada olan’a bakmak ve ‘orada olup biten’i anlama ve açıklamaya çalışmakla yetinmemektedir. Bundan daha fazla olarak ‘öğrendiği’\, ‘önemsediği’\, ‘bağlandığı’ veya ‘inandığı’ kavram\, sembol\, işaret veya rumuzlar üzerinden\, geniş bir ‘yorumlama/tevil’ faaliyetinde bulunmakta ve böylelikle de mûsikî nazariyatı alanının çok-boyutlu unsur ve değişkenlere dayalı olarak gelişimine katkı sağlamaktadır. \nEtkinlikte\, Osmanlı makam nazariyatı alanında yaşanan dört önemli kavramsal ve tarihsel değişim ve dönüşüm dönemine ışık tutulmakta; aralarındaki muhtelif bağlantılar ve değişimde etkili olan hususlar\, aydınlatılmaya çalışılmaktadır. Böylece\, ‘devir’\, ‘makam’\, ‘seyir’ ve ‘dizi’ temelli nazarî modellerin gelişimleri ve temellendirildikleri esaslar belirlenerek\, nazariyat alanına bakışın muhtemel boyutları üzerinde\, yeni yorumlamaların gerekliliğine dikkat çekilmektedir. \nDoç.Dr. Okan Murat Öztürk \nSanatçı ve akademisyen. Temel çalışma konularını makam nazariyatı\, müzik analiz yöntemleri ve Türk modernleşmesi sürecinin mûsikî alanında yol açtığı değişimleri muhtelif boyutlarıyla ele alma oluşturuyor. Bugüne değin gerçekleştirdiği tüm sanatsal ve akademik çalışmalarında mûsikî alanındaki temel meselelere daima ‘daha iyi anlama’ya dönük bir çabayla yaklaşmayı ve sanatsal düzlemde de ‘nitelikli temsil’ konusuna önem vermeyi ilke edinmiştir. ICTM ve MÜYORBİR üyesi olup\, halen\, Ankara Müzik ve Güzel Sanatlar Üniversitesi Müzikoloji Bölümü’nde öğretim üyesi olarak görev yapmaktadır. \n  \nFacebook etkinlik sayfası için tıklayınız. \n
URL:https://tumac.org/etkinlik/tumac-bse-no-2-nazari-modeller-isiginda-makam/
LOCATION:Dede Efendi Evi\, Ahırkapı Sokak No:17 Cankurtaran Sultanahmet\, İstanbul\, 34122\, Türkiye
CATEGORIES:TUMAC BSE
ATTACH;FMTTYPE=image/jpeg:https://tumac.org/wp-content/uploads/2019/02/tumac_bse2_1_web_16_9.jpg
END:VEVENT
END:VCALENDAR